BEGIN:VCALENDAR
VERSION:2.0
PRODID:-//International Code Council - Professional Chapter - ECPv6.15.18//NONSGML v1.0//EN
CALSCALE:GREGORIAN
METHOD:PUBLISH
X-WR-CALNAME:International Code Council - Professional Chapter
X-ORIGINAL-URL:https://icc-pc.org
X-WR-CALDESC:Events for International Code Council - Professional Chapter
REFRESH-INTERVAL;VALUE=DURATION:PT1H
X-Robots-Tag:noindex
X-PUBLISHED-TTL:PT1H
BEGIN:VTIMEZONE
TZID:America/New_York
BEGIN:DAYLIGHT
TZOFFSETFROM:-0500
TZOFFSETTO:-0400
TZNAME:EDT
DTSTART:20250309T070000
END:DAYLIGHT
BEGIN:STANDARD
TZOFFSETFROM:-0400
TZOFFSETTO:-0500
TZNAME:EST
DTSTART:20251102T060000
END:STANDARD
BEGIN:DAYLIGHT
TZOFFSETFROM:-0500
TZOFFSETTO:-0400
TZNAME:EDT
DTSTART:20260308T070000
END:DAYLIGHT
BEGIN:STANDARD
TZOFFSETFROM:-0400
TZOFFSETTO:-0500
TZNAME:EST
DTSTART:20261101T060000
END:STANDARD
BEGIN:DAYLIGHT
TZOFFSETFROM:-0500
TZOFFSETTO:-0400
TZNAME:EDT
DTSTART:20270314T070000
END:DAYLIGHT
BEGIN:STANDARD
TZOFFSETFROM:-0400
TZOFFSETTO:-0500
TZNAME:EST
DTSTART:20271107T060000
END:STANDARD
END:VTIMEZONE
BEGIN:VEVENT
DTSTART;TZID=America/New_York:20260123T120000
DTEND;TZID=America/New_York:20260123T130000
DTSTAMP:20260423T060751
CREATED:20260123T170003Z
LAST-MODIFIED:20260116T183742Z
UID:448-1769169600-1769173200@icc-pc.org
SUMMARY:CODE Brew - Fire Prevention
DESCRIPTION:Friday January 23rd at Noon (EST)\n\n\nJoin Here\n \nEvery other week we encourage members\, and those considering membership\, to join us on a zoom call with their favorite beverage. It is our time to unwind\, wrap up the week with friendly conversation\, and get to know other Professional Chapter Members. Topics for discussion include everything from code questions to office policies\, to architectural trends to which beverages we are partial to  – and everything in between.\nTopic: Fire Prevention\nThe Building codes have 3 chapters about fire safety\, as well as its own code book. (International Fire Code.) The National Fire Protection Association has its own codes for Fire\, Life/Safety\, Sprinklers and Fire Alarms. The mid-1970s show that the US had the highest death rates due to fire in the Industrialized World. Between 1977-2011 the death rate improved by over 71%. \nWhy? Due to technology (smoke alarms & detectors)\, improved education (Stop Drop and Roll)\, changes in consumer safety (fire-safe cigarettes\, fire resistant products) and changes in Code. \nThere are so many factors that go into the fire safety code that\, of course\, we can’t go over everything in one hour. So bring your specific questions\, and let’s go over those. Our goal is to have a fire safety expert on the call with us\, so please join us. \nJoin us January 23 at noon and let’s discuss this. \nICC CEU’s are available to members who join us.\nYou do not need to be a member to participate.
URL:https://icc-pc.org/event/code-brew-fire-prevention/
CATEGORIES:Round Table Discussions,Training Opportunity
END:VEVENT
END:VCALENDAR